BEGIN:VCALENDAR
VERSION:2.0
PRODID:-//Brown Edge Parish Council//Meeting Calendar//EN
CALSCALE:GREGORIAN
METHOD:PUBLISH
BEGIN:VEVENT
UID:71262-20260202@brownedge-pc.gov.uk
DTSTAMP:20260420T081510Z
DTSTART;VALUE=DATE:20260202
DTEND;VALUE=DATE:20260203
SUMMARY:Monday 2nd February 2026 Brown Edge Parish Council
DESCRIPTION:Full Council Meeting\nView details: https://brownedge-pc.gov.uk/meetings/monday-2nd-february-2026-brown-edge-parish-council/
URL:https://brownedge-pc.gov.uk/meetings/monday-2nd-february-2026-brown-edge-parish-council/
END:VEVENT
END:VCALENDAR
