BEGIN:VCALENDAR
VERSION:2.0
PRODID:-//Brown Edge Parish Council//Meeting Calendar//EN
CALSCALE:GREGORIAN
METHOD:PUBLISH
BEGIN:VEVENT
UID:71224-20260126@brownedge-pc.gov.uk
DTSTAMP:20260422T083917Z
DTSTART;VALUE=DATE:20260126
DTEND;VALUE=DATE:20260127
SUMMARY:Budget Setting &#038\\; Precept Request Meeting
DESCRIPTION:Full Council Meeting\nView details: https://brownedge-pc.gov.uk/meetings/budget-setting-precept-request-meeting/
URL:https://brownedge-pc.gov.uk/meetings/budget-setting-precept-request-meeting/
END:VEVENT
END:VCALENDAR
