BEGIN:VCALENDAR
VERSION:2.0
PRODID:-//Brown Edge Parish Council//Meeting Calendar//EN
CALSCALE:GREGORIAN
METHOD:PUBLISH
BEGIN:VEVENT
UID:71206-20251230@brownedge-pc.gov.uk
DTSTAMP:20260422T084044Z
DTSTART;VALUE=DATE:20251230
DTEND;VALUE=DATE:20251231
SUMMARY:5th January 2026 Brown Edge Parish Council
DESCRIPTION:Full Council Meeting\nView details: https://brownedge-pc.gov.uk/meetings/5th-january-2026-brown-edge-parish-council/
URL:https://brownedge-pc.gov.uk/meetings/5th-january-2026-brown-edge-parish-council/
END:VEVENT
END:VCALENDAR
