BEGIN:VCALENDAR
VERSION:2.0
PRODID:-//Brown Edge Parish Council//Meeting Calendar//EN
CALSCALE:GREGORIAN
METHOD:PUBLISH
BEGIN:VEVENT
UID:71173-20251113@brownedge-pc.gov.uk
DTSTAMP:20260419T173227Z
DTSTART;VALUE=DATE:20251113
DTEND;VALUE=DATE:20251114
SUMMARY:13th November 2025 &#8211\\; Extraordinary Meeting Brown Edge Parish Council
DESCRIPTION:Full Council Meeting\nView details: https://brownedge-pc.gov.uk/meetings/13th-november-2025-extraordinary-meeting-brown-edge-parish-council/
URL:https://brownedge-pc.gov.uk/meetings/13th-november-2025-extraordinary-meeting-brown-edge-parish-council/
END:VEVENT
END:VCALENDAR
