BEGIN:VCALENDAR
VERSION:2.0
PRODID:-//Brown Edge Parish Council//Meeting Calendar//EN
CALSCALE:GREGORIAN
METHOD:PUBLISH
BEGIN:VEVENT
UID:71152-20251103@brownedge-pc.gov.uk
DTSTAMP:20260419T161218Z
DTSTART;VALUE=DATE:20251103
DTEND;VALUE=DATE:20251104
SUMMARY:3rd November 2025 Brown Edge Parish Council
DESCRIPTION:Full Council Meeting\nView details: https://brownedge-pc.gov.uk/meetings/3rd-november-2025-brown-edge-parish-council/
URL:https://brownedge-pc.gov.uk/meetings/3rd-november-2025-brown-edge-parish-council/
END:VEVENT
END:VCALENDAR
