BEGIN:VCALENDAR
VERSION:2.0
PRODID:-//Brown Edge Parish Council//Meeting Calendar//EN
CALSCALE:GREGORIAN
METHOD:PUBLISH
BEGIN:VEVENT
UID:71144-20251006@brownedge-pc.gov.uk
DTSTAMP:20260419T144857Z
DTSTART;VALUE=DATE:20251006
DTEND;VALUE=DATE:20251007
SUMMARY:6th October 2025 Brown Edge Parish Council Meeting Agenda
DESCRIPTION:Full Council Meeting\nView details: https://brownedge-pc.gov.uk/meetings/6th-october-2025-brown-edge-parish-council-meeting/
URL:https://brownedge-pc.gov.uk/meetings/6th-october-2025-brown-edge-parish-council-meeting/
END:VEVENT
END:VCALENDAR
