BEGIN:VCALENDAR
VERSION:2.0
PRODID:-//Brown Edge Parish Council//Meeting Calendar//EN
CALSCALE:GREGORIAN
METHOD:PUBLISH
BEGIN:VEVENT
UID:71058-20250512@brownedge-pc.gov.uk
DTSTAMP:20260420T081337Z
DTSTART;VALUE=DATE:20250512
DTEND;VALUE=DATE:20250513
SUMMARY:Annual Meeting of Brown Edge Parish Council 2025
DESCRIPTION:Annual Meeting\nView details: https://brownedge-pc.gov.uk/meetings/annual-meeting-of-brown-edge-parish-council-2025/
URL:https://brownedge-pc.gov.uk/meetings/annual-meeting-of-brown-edge-parish-council-2025/
END:VEVENT
END:VCALENDAR
