BEGIN:VCALENDAR
VERSION:2.0
PRODID:-//Brown Edge Parish Council//Meeting Calendar//EN
CALSCALE:GREGORIAN
METHOD:PUBLISH
BEGIN:VEVENT
UID:70636-20250120@brownedge-pc.gov.uk
DTSTAMP:20260421T083446Z
DTSTART;VALUE=DATE:20250120
DTEND;VALUE=DATE:20250121
SUMMARY:20th January 2025 BEPC Extraordinary Meeting
DESCRIPTION:Full Council Meeting\nView details: https://brownedge-pc.gov.uk/meetings/bepc-agenda-extraordinary-meeting/
URL:https://brownedge-pc.gov.uk/meetings/bepc-agenda-extraordinary-meeting/
END:VEVENT
END:VCALENDAR
