BEGIN:VCALENDAR
VERSION:2.0
PRODID:-//Brown Edge Parish Council//Meeting Calendar//EN
CALSCALE:GREGORIAN
METHOD:PUBLISH
BEGIN:VEVENT
UID:70456-20230103@brownedge-pc.gov.uk
DTSTAMP:20260420T081829Z
DTSTART;VALUE=DATE:20230103
DTEND;VALUE=DATE:20230104
SUMMARY:Council Meetings &#8211\\; 2023
DESCRIPTION:Full Council Meeting\nView details: https://brownedge-pc.gov.uk/meetings/council-meeting-2023/
URL:https://brownedge-pc.gov.uk/meetings/council-meeting-2023/
END:VEVENT
END:VCALENDAR
